BEGIN:VCALENDAR
VERSION:2.0
PRODID:-//Mairie de Montrichard Val de Cher - ECPv6.8.2.1//NONSGML v1.0//EN
CALSCALE:GREGORIAN
METHOD:PUBLISH
X-WR-CALNAME:Mairie de Montrichard Val de Cher
X-ORIGINAL-URL:https://www.montrichardvaldecher.com
X-WR-CALDESC:Évènements pour Mairie de Montrichard Val de Cher
REFRESH-INTERVAL;VALUE=DURATION:PT1H
X-Robots-Tag:noindex
X-PUBLISHED-TTL:PT1H
BEGIN:VTIMEZONE
TZID:Europe/Paris
BEGIN:DAYLIGHT
TZOFFSETFROM:+0100
TZOFFSETTO:+0200
TZNAME:CEST
DTSTART:20240331T010000
END:DAYLIGHT
BEGIN:STANDARD
TZOFFSETFROM:+0200
TZOFFSETTO:+0100
TZNAME:CET
DTSTART:20241027T010000
END:STANDARD
END:VTIMEZONE
BEGIN:VEVENT
DTSTART;TZID=Europe/Paris:20241211T080000
DTEND;TZID=Europe/Paris:20241211T170000
DTSTAMP:20260421T132152
CREATED:20241211T182154Z
LAST-MODIFIED:20241211T182154Z
UID:22190-1733904000-1733936400@www.montrichardvaldecher.com
SUMMARY:Marché de Noël des commerçants et artisans
DESCRIPTION:13 au 15 décembre 2024\n Place Barthélemy Gilbert\n De 13h00 à 19h00\n\n\n Du 13 au 15 décembre prochains\, les commerçants de Montrichard Val de Cher organisent leur marché de Noël. Au programme : déballage commerçant\, vin\, chocolat\, marrons chauds.\n\n\n Et pour les plus sages d’entre nous\, le Père-Noël fera escale à Montrichard de 17h00 à 18h30 tous les soirs.
URL:https://www.montrichardvaldecher.com/event/marche-de-noel-des-commercants-et-artisans/
CATEGORIES:culturel
ORGANIZER;CN="UCIAM":MAILTO:uciam41400@gmail.com
END:VEVENT
END:VCALENDAR