BEGIN:VCALENDAR
VERSION:2.0
PRODID:-//Mairie de Montrichard Val de Cher - ECPv6.8.2.1//NONSGML v1.0//EN
CALSCALE:GREGORIAN
METHOD:PUBLISH
X-ORIGINAL-URL:https://www.montrichardvaldecher.com
X-WR-CALDESC:Évènements pour Mairie de Montrichard Val de Cher
REFRESH-INTERVAL;VALUE=DURATION:PT1H
X-Robots-Tag:noindex
X-PUBLISHED-TTL:PT1H
BEGIN:VTIMEZONE
TZID:Europe/Paris
BEGIN:DAYLIGHT
TZOFFSETFROM:+0100
TZOFFSETTO:+0200
TZNAME:CEST
DTSTART:20240331T010000
END:DAYLIGHT
BEGIN:STANDARD
TZOFFSETFROM:+0200
TZOFFSETTO:+0100
TZNAME:CET
DTSTART:20241027T010000
END:STANDARD
END:VTIMEZONE
BEGIN:VEVENT
DTSTART;TZID=Europe/Paris:20241130T180000
DTEND;TZID=Europe/Paris:20241130T200000
DTSTAMP:20260421T132213
CREATED:20241126T085159Z
LAST-MODIFIED:20241126T085159Z
UID:22079-1732989600-1732996800@www.montrichardvaldecher.com
SUMMARY:Concert de la Sainte Cécile
DESCRIPTION:🎤 🎼 CONCERT DE L’HARMONIE ET DE LA CANTILENE 🎼🎤\n\n\n \n\n\n📅 Samedi 30 novembre 2024\n\n\n⏰18h\n\n\n📍 Centre Socio-Culturel de Bourré\n\n\n \n\n\n💸 Entrée libre
URL:https://www.montrichardvaldecher.com/event/concert-de-la-sainte-cecile/
LOCATION:Centre Socio Culturel Bourré
CATEGORIES:culturel
END:VEVENT
END:VCALENDAR