BEGIN:VCALENDAR
VERSION:2.0
PRODID:-//Mairie de Montrichard Val de Cher - ECPv6.8.2.1//NONSGML v1.0//EN
CALSCALE:GREGORIAN
METHOD:PUBLISH
X-WR-CALNAME:Mairie de Montrichard Val de Cher
X-ORIGINAL-URL:https://www.montrichardvaldecher.com
X-WR-CALDESC:Évènements pour Mairie de Montrichard Val de Cher
REFRESH-INTERVAL;VALUE=DURATION:PT1H
X-Robots-Tag:noindex
X-PUBLISHED-TTL:PT1H
BEGIN:VTIMEZONE
TZID:Europe/Paris
BEGIN:DAYLIGHT
TZOFFSETFROM:+0100
TZOFFSETTO:+0200
TZNAME:CEST
DTSTART:20240331T010000
END:DAYLIGHT
BEGIN:STANDARD
TZOFFSETFROM:+0200
TZOFFSETTO:+0100
TZNAME:CET
DTSTART:20241027T010000
END:STANDARD
END:VTIMEZONE
BEGIN:VEVENT
DTSTART;TZID=Europe/Paris:20241123T150000
DTEND;TZID=Europe/Paris:20241123T180000
DTSTAMP:20260421T144920
CREATED:20240926T100022Z
LAST-MODIFIED:20241008T132312Z
UID:21754-1732374000-1732384800@www.montrichardvaldecher.com
SUMMARY:Prix littéraire des Catherinettes
DESCRIPTION:📆 samedi 23 novembre\n\n\n  Hôtel d’Effiat et Maison des Catherinettes\n\n\n\n   Le 23 Novembre 2024\, Montrichard-Val-de-Cher a l’honneur d’accueillir la deuxième édition du Prix des Catherinettes\, une initiative novatrice visant à mettre en lumière le talent littéraire des jeunes femmes de moins de 26 ans.\n\n\n\nAu programme :\n La dictée d’Edith de 15h à 16h\, et les rencontres littéraires de 16h15 à 17h15 à l’Hotel d’Effiat.\n\n\n\n Puis\, la remise des prix autour d’un verre de l’amitié à partir de 18h à la Maison des Catherinettes.\n\n\n\n Ouvert à toutes et tous.\n Pour s’inscrire\, rendez vous sur www.prixdescatherinettes.com ou scannez le QR code présent sur l’affiche.
URL:https://www.montrichardvaldecher.com/event/prix-litteraire-les-catherinettes/
LOCATION:Hotel d’effiat\, rue carnot\, montrichard\, 41400\, France
CATEGORIES:culturel
END:VEVENT
BEGIN:VEVENT
DTSTART;TZID=Europe/Paris:20241123T200000
DTEND;TZID=Europe/Paris:20241124T200000
DTSTAMP:20260421T144920
CREATED:20240911T140539Z
LAST-MODIFIED:20240911T140539Z
UID:21581-1732392000-1732478400@www.montrichardvaldecher.com
SUMMARY:Lotos de Modern'Dance
DESCRIPTION:
URL:https://www.montrichardvaldecher.com/event/lotos-de-moderndance-2/
LOCATION:ECS\, 6 rue des Religieuses\, MONTRICHARD\, 41400\, France
CATEGORIES:culturel
END:VEVENT
END:VCALENDAR