BEGIN:VCALENDAR
VERSION:2.0
PRODID:-//Mairie de Montrichard Val de Cher - ECPv6.8.2.1//NONSGML v1.0//EN
CALSCALE:GREGORIAN
METHOD:PUBLISH
X-ORIGINAL-URL:https://www.montrichardvaldecher.com
X-WR-CALDESC:Évènements pour Mairie de Montrichard Val de Cher
REFRESH-INTERVAL;VALUE=DURATION:PT1H
X-Robots-Tag:noindex
X-PUBLISHED-TTL:PT1H
BEGIN:VTIMEZONE
TZID:Europe/Paris
BEGIN:DAYLIGHT
TZOFFSETFROM:+0100
TZOFFSETTO:+0200
TZNAME:CEST
DTSTART:20240331T010000
END:DAYLIGHT
BEGIN:STANDARD
TZOFFSETFROM:+0200
TZOFFSETTO:+0100
TZNAME:CET
DTSTART:20241027T010000
END:STANDARD
END:VTIMEZONE
BEGIN:VEVENT
DTSTART;TZID=Europe/Paris:20241116T203000
DTEND;TZID=Europe/Paris:20241117T160000
DTSTAMP:20260421T144306
CREATED:20241025T142834Z
LAST-MODIFIED:20241113T103604Z
UID:21999-1731789000-1731859200@www.montrichardvaldecher.com
SUMMARY:Festival Vent d'automne
DESCRIPTION:Samedi 16 novembre – 20 h 30 et Dimanche 17 novembre – 16 h 00.  \nEspace Culturel et Sportif. \n🥁 L’école de musique de la Communauté de communes Val de Cher Controis vous convie pour un week-end musical à Montrichard Val de Cher. Il se déroulera du samedi 16 au dimanche 17 novembre 2024 et se trouvera à l’Espace Sportif et Culturel ! \n🎷 Au programme : Samedi 16 novembre – 20 h 30\n« Musique Vintage »\, quand le classique et le rock s’entremêlent \nDimanche 17 novembre – 16 h 00\n« Chronique d’un péril annoncé » – par l’ensemble cuivres Projekt. \n🫰🏻 Tarifs : 10 € le concert et 5 € pour les étudiants\, demandeurs d’emploi et enfant de -18 ans. \n☎️ Pour plus d’informations\, merci de contacter le 07 78 82 03 16 ou par mail\necoledemusique@val2c.fr
URL:https://www.montrichardvaldecher.com/event/festival-vent-dautomne/
CATEGORIES:culturel
END:VEVENT
END:VCALENDAR