BEGIN:VCALENDAR
VERSION:2.0
PRODID:-//Mairie de Montrichard Val de Cher - ECPv6.8.2.1//NONSGML v1.0//EN
CALSCALE:GREGORIAN
METHOD:PUBLISH
X-WR-CALNAME:Mairie de Montrichard Val de Cher
X-ORIGINAL-URL:https://www.montrichardvaldecher.com
X-WR-CALDESC:Évènements pour Mairie de Montrichard Val de Cher
REFRESH-INTERVAL;VALUE=DURATION:PT1H
X-Robots-Tag:noindex
X-PUBLISHED-TTL:PT1H
BEGIN:VTIMEZONE
TZID:Europe/Paris
BEGIN:DAYLIGHT
TZOFFSETFROM:+0100
TZOFFSETTO:+0200
TZNAME:CEST
DTSTART:20240331T010000
END:DAYLIGHT
BEGIN:STANDARD
TZOFFSETFROM:+0200
TZOFFSETTO:+0100
TZNAME:CET
DTSTART:20241027T010000
END:STANDARD
END:VTIMEZONE
BEGIN:VEVENT
DTSTART;VALUE=DATE:20241109
DTEND;VALUE=DATE:20241112
DTSTAMP:20260421T144914
CREATED:20240911T140701Z
LAST-MODIFIED:20241023T145836Z
UID:21583-1731110400-1731369599@www.montrichardvaldecher.com
SUMMARY:Jours de fête
DESCRIPTION:JOURS DE FÊTE A MONTRICHARD VAL DE CHER  \n\n\n\n 9\, 10 et 11 novembre 2024\n\n Centre ville\n\n\n\n Certains voudraient nous faire croire qu’en automne\, il faut rester bien au chaud chez soi.\n\n\n\n Au contraire ! Parce qu’il n’y a pas de saison pour partager des moments de convivialité en centre ville\, retrouvez nous les 9\, 10 et 11 novembre 2024 pour trois jours de fête à Montrichard Val de Cher.\n\n\n\n Un programme riche et festif vous attend dans une ambiance chaleureuse ! Tout le programme de ces trois jours sur l’affiche ci dessous
URL:https://www.montrichardvaldecher.com/event/jours-de-fete/
CATEGORIES:culturel
END:VEVENT
BEGIN:VEVENT
DTSTART;TZID=Europe/Paris:20241110T170000
DTEND;TZID=Europe/Paris:20241110T183000
DTSTAMP:20260421T144914
CREATED:20241028T093526Z
LAST-MODIFIED:20241028T093604Z
UID:22002-1731258000-1731263400@www.montrichardvaldecher.com
SUMMARY:Concert de la Cantilène
DESCRIPTION:Pour son concert\, la Cantilène de Montrichard Val de Cher invite Choeur la Vie de Saint Gilles Croix de Vie le dimanche 10 novembre 2024 à 17h00 à l’Eglise Sainte Croix de Montrichard. Entrée libre
URL:https://www.montrichardvaldecher.com/event/22002/
LOCATION:Eglise Sainte Croix
CATEGORIES:culturel
ORGANIZER;CN="La Cantil%C3%A8ne":MAILTO:lacantilene@laposte.net
END:VEVENT
END:VCALENDAR