BEGIN:VCALENDAR
VERSION:2.0
PRODID:-//Mairie de Montrichard Val de Cher - ECPv6.8.2.1//NONSGML v1.0//EN
CALSCALE:GREGORIAN
METHOD:PUBLISH
X-ORIGINAL-URL:https://www.montrichardvaldecher.com
X-WR-CALDESC:Évènements pour Mairie de Montrichard Val de Cher
REFRESH-INTERVAL;VALUE=DURATION:PT1H
X-Robots-Tag:noindex
X-PUBLISHED-TTL:PT1H
BEGIN:VTIMEZONE
TZID:Europe/Paris
BEGIN:DAYLIGHT
TZOFFSETFROM:+0100
TZOFFSETTO:+0200
TZNAME:CEST
DTSTART:20240331T010000
END:DAYLIGHT
BEGIN:STANDARD
TZOFFSETFROM:+0200
TZOFFSETTO:+0100
TZNAME:CET
DTSTART:20241027T010000
END:STANDARD
END:VTIMEZONE
BEGIN:VEVENT
DTSTART;TZID=Europe/Paris:20240929T103000
DTEND;TZID=Europe/Paris:20240929T180000
DTSTAMP:20260421T173322
CREATED:20240913T121802Z
LAST-MODIFIED:20240913T121802Z
UID:21649-1727605800-1727632800@www.montrichardvaldecher.com
SUMMARY:La disco soupe à Montrichard Val de Cher
DESCRIPTION:Ensemble nettoyons les berges du Cher ! \n Dimanche 29 Septembre 10h30 Parc plage La Municipalité\, en partenariat avec Biocoop\, le Restaurant de la Plage et le SMIEEOM\, vous convie à partager un moment en musique : La Disco Soupe ! La Disco Soupe ?C’est une session collective et ouverte\, de cuisine de fruits et légumes rebuts ou invendus\, dans une ambiance musicale et festive.Au programme : Nettoyage des berges du cher Exposition sur le tri sélectif Préparation de la soupe et salade de fruit Repas chaleureux offert Chaque participant devra ramener un contenant qui se ferme\, afin de ramener la succulente soupe préparée durant la manifestation.À partir de 6 ans – Gratuit ! \n 02 54 71 66 35\, venez nombreux !   
URL:https://www.montrichardvaldecher.com/event/la-disco-soupe-a-montrichard-val-de-cher/
LOCATION:Plage de Montrichard
CATEGORIES:culturel
ATTACH;FMTTYPE=image/jpeg:https://www.montrichardvaldecher.com/wp-content/uploads/affiche-disco-soupe-Copie-scaled.jpg
END:VEVENT
END:VCALENDAR