BEGIN:VCALENDAR
VERSION:2.0
PRODID:-//Mairie de Montrichard Val de Cher - ECPv6.8.2.1//NONSGML v1.0//EN
CALSCALE:GREGORIAN
METHOD:PUBLISH
X-WR-CALNAME:Mairie de Montrichard Val de Cher
X-ORIGINAL-URL:https://www.montrichardvaldecher.com
X-WR-CALDESC:Évènements pour Mairie de Montrichard Val de Cher
REFRESH-INTERVAL;VALUE=DURATION:PT1H
X-Robots-Tag:noindex
X-PUBLISHED-TTL:PT1H
BEGIN:VTIMEZONE
TZID:Europe/Paris
BEGIN:DAYLIGHT
TZOFFSETFROM:+0100
TZOFFSETTO:+0200
TZNAME:CEST
DTSTART:20240331T010000
END:DAYLIGHT
BEGIN:STANDARD
TZOFFSETFROM:+0200
TZOFFSETTO:+0100
TZNAME:CET
DTSTART:20241027T010000
END:STANDARD
END:VTIMEZONE
BEGIN:VEVENT
DTSTART;TZID=Europe/Paris:20240915T170000
DTEND;TZID=Europe/Paris:20240915T190000
DTSTAMP:20260421T173102
CREATED:20240612T081743Z
LAST-MODIFIED:20240913T083559Z
UID:21156-1726419600-1726426800@www.montrichardvaldecher.com
SUMMARY:Concert Gospel
DESCRIPTION:Le dimanche 15 septembre\, la chorale « La Cantilène » vous propose un concert gospel avec Joniece Jamison. Rendez-vous à l’Espace Socio-culturel à 17h00.\n\n\n\nTarifs : 23 euros en prévente et 25 euros sur place (1h avant les concerts) – Gratuit pour les moins de 12 ans. Point de vente : Maison de la Presse\, 62 rue Nationale – 02 54 32 01 84 ou directement auprès de Monsieur CARRE – 06 65 25 33 40 (place à 20 euros).
URL:https://www.montrichardvaldecher.com/event/%f0%9f%8e%a4%f0%9f%8e%bc-concert-gospel-%f0%9f%8e%bc%f0%9f%8e%a4/
LOCATION:ECS\, 6 rue des Religieuses\, MONTRICHARD\, 41400\, France
CATEGORIES:culturel
ORGANIZER;CN="La Cantil%C3%A8ne":MAILTO:lacantilene@laposte.net
END:VEVENT
END:VCALENDAR