BEGIN:VCALENDAR
VERSION:2.0
PRODID:-//Mairie de Montrichard Val de Cher - ECPv6.8.2.1//NONSGML v1.0//EN
CALSCALE:GREGORIAN
METHOD:PUBLISH
X-WR-CALNAME:Mairie de Montrichard Val de Cher
X-ORIGINAL-URL:https://www.montrichardvaldecher.com
X-WR-CALDESC:Évènements pour Mairie de Montrichard Val de Cher
REFRESH-INTERVAL;VALUE=DURATION:PT1H
X-Robots-Tag:noindex
X-PUBLISHED-TTL:PT1H
BEGIN:VTIMEZONE
TZID:Europe/Paris
BEGIN:DAYLIGHT
TZOFFSETFROM:+0100
TZOFFSETTO:+0200
TZNAME:CEST
DTSTART:20240331T010000
END:DAYLIGHT
BEGIN:STANDARD
TZOFFSETFROM:+0200
TZOFFSETTO:+0100
TZNAME:CET
DTSTART:20241027T010000
END:STANDARD
END:VTIMEZONE
BEGIN:VEVENT
DTSTART;TZID=Europe/Paris:20240907T140000
DTEND;TZID=Europe/Paris:20240910T180000
DTSTAMP:20260421T174118
CREATED:20240729T140334Z
LAST-MODIFIED:20240903T072606Z
UID:21392-1725717600-1725991200@www.montrichardvaldecher.com
SUMMARY:Exposition : le Cher\, une frontière intérieure
DESCRIPTION:du samedi 7 au mardi 10 septembre\n 14h-18h\n\n\n L’exposition « Le Cher\, une frontière intérieure » se déroulera du 7 au 10 septembre à la salle des fêtes de Bourré.\n\n\n Une conférence aura lieu le mardi 10 septembre à 16h30.\n\n\n Entrée gratuite
URL:https://www.montrichardvaldecher.com/event/%f0%9f%8f%9e%f0%9f%92%81-exposition-le-cher-une-frontiere-interieure-cest-demain-%f0%9f%92%81%f0%9f%8f%9e/
LOCATION:Centre Socio Culturel Bourré
CATEGORIES:culturel
ATTACH;FMTTYPE=image/jpeg:https://www.montrichardvaldecher.com/wp-content/uploads/451049839_1051013540367441_7381872379220631870_n.jpg
END:VEVENT
END:VCALENDAR