BEGIN:VCALENDAR
VERSION:2.0
PRODID:-//Mairie de Montrichard Val de Cher - ECPv6.8.2.1//NONSGML v1.0//EN
CALSCALE:GREGORIAN
METHOD:PUBLISH
X-WR-CALNAME:Mairie de Montrichard Val de Cher
X-ORIGINAL-URL:https://www.montrichardvaldecher.com
X-WR-CALDESC:Évènements pour Mairie de Montrichard Val de Cher
REFRESH-INTERVAL;VALUE=DURATION:PT1H
X-Robots-Tag:noindex
X-PUBLISHED-TTL:PT1H
BEGIN:VTIMEZONE
TZID:Europe/Paris
BEGIN:DAYLIGHT
TZOFFSETFROM:+0100
TZOFFSETTO:+0200
TZNAME:CEST
DTSTART:20240331T010000
END:DAYLIGHT
BEGIN:STANDARD
TZOFFSETFROM:+0200
TZOFFSETTO:+0100
TZNAME:CET
DTSTART:20241027T010000
END:STANDARD
END:VTIMEZONE
BEGIN:VEVENT
DTSTART;TZID=Europe/Paris:20240725T190000
DTEND;TZID=Europe/Paris:20240811T233000
DTSTAMP:20260421T203007
CREATED:20240729T135837Z
LAST-MODIFIED:20240729T135837Z
UID:21387-1721934000-1723419000@www.montrichardvaldecher.com
SUMMARY:💃🍷 GUINGUETTE DE LA FORTERESSE 💃🍷
DESCRIPTION:Du 25 juillet au 11 août\, les jeudi\, vendredi\, samedi et dimanche soirs de 19h00 à 23h30. \nTaverne médiévale\, boisson d’époque\, produits du terroir\, démonstrations\, spectacles\, combats en armure
URL:https://www.montrichardvaldecher.com/event/%f0%9f%92%83%f0%9f%8d%b7-guinguette-de-la-forteresse-%f0%9f%92%83%f0%9f%8d%b7/
LOCATION:Donjon de Montrichard
CATEGORIES:culturel
ATTACH;FMTTYPE=image/jpeg:https://www.montrichardvaldecher.com/wp-content/uploads/453166843_811386994309576_7842363140525233692_n.jpg
END:VEVENT
BEGIN:VEVENT
DTSTART;TZID=Europe/Paris:20240810T080000
DTEND;TZID=Europe/Paris:20240811T170000
DTSTAMP:20260421T203007
CREATED:20240729T134547Z
LAST-MODIFIED:20240729T135142Z
UID:21378-1723276800-1723395600@www.montrichardvaldecher.com
SUMMARY:🍷😎 ESTIVALES DE MONTRICHARD 🍷😎
DESCRIPTION:Samedi 10 et Dimanche 11 août\, l’Equipe Traditions et Animations Montrichardaises organise les ESTIVALES au Parc Plage de Montrichard Val de Cher.\n\n\nAu programme\, dégustations\, exposition\, pique-nique\, buvette\, artisanat régional\, musique d’ambiance\, animations musicales\,\n\n\nLe 10 août au soir\, nocturne à partir de 20h00 : les Estivales à l’heure américaine fêtent les 80 ans de la libération de Paris autour d’un barbecue américain – SUR RESERVATION.\n\n\nContact : 06 11 08 57 21 – 06 11 57 94 86 – team.montrichard@yahoo.fr\n\n\nVenez nombreux !
URL:https://www.montrichardvaldecher.com/event/%f0%9f%8d%b7%f0%9f%98%8e-estivales-de-montrichard-%f0%9f%8d%b7%f0%9f%98%8e/
CATEGORIES:culturel
ATTACH;FMTTYPE=image/jpeg:https://www.montrichardvaldecher.com/wp-content/uploads/ESTIVALES-AFFICHE-PRESSES-JPG-scaled.jpg
ORGANIZER;CN="TEAM":MAILTO:team.montrichard@yahoo.fr
END:VEVENT
END:VCALENDAR