BEGIN:VCALENDAR
VERSION:2.0
PRODID:-//Mairie de Montrichard Val de Cher - ECPv6.8.2.1//NONSGML v1.0//EN
CALSCALE:GREGORIAN
METHOD:PUBLISH
X-ORIGINAL-URL:https://www.montrichardvaldecher.com
X-WR-CALDESC:Évènements pour Mairie de Montrichard Val de Cher
REFRESH-INTERVAL;VALUE=DURATION:PT1H
X-Robots-Tag:noindex
X-PUBLISHED-TTL:PT1H
BEGIN:VTIMEZONE
TZID:Europe/Paris
BEGIN:DAYLIGHT
TZOFFSETFROM:+0100
TZOFFSETTO:+0200
TZNAME:CEST
DTSTART:20240331T010000
END:DAYLIGHT
BEGIN:STANDARD
TZOFFSETFROM:+0200
TZOFFSETTO:+0100
TZNAME:CET
DTSTART:20241027T010000
END:STANDARD
END:VTIMEZONE
BEGIN:VEVENT
DTSTART;TZID=Europe/Paris:20240615T163000
DTEND;TZID=Europe/Paris:20240615T183000
DTSTAMP:20260421T215304
CREATED:20240612T085546Z
LAST-MODIFIED:20240612T085546Z
UID:21173-1718469000-1718476200@www.montrichardvaldecher.com
SUMMARY:🎼👩 CONCERT DE FIN D'ANNÉE : AICEM 👩🎼
DESCRIPTION:15 juin\n 16h30\n Espace Culturel et Sportif\n\n\n\n L’école de musique du canton de Montrichard (AICEM) présente son concert de fin d’année avec la participation de l’Harmonie et de la Cantilène.\n\n\n\n Entrée libre\n\n\n\n Plus d’informations au 02 18 09 18 02
URL:https://www.montrichardvaldecher.com/event/%f0%9f%8e%bc%f0%9f%91%a9-concert-de-fin-dannee-aicem-%f0%9f%91%a9%f0%9f%8e%bc/
LOCATION:ECS\, 6 rue des Religieuses\, MONTRICHARD\, 41400\, France
CATEGORIES:culturel
END:VEVENT
END:VCALENDAR