BEGIN:VCALENDAR
VERSION:2.0
PRODID:-//Mairie de Montrichard Val de Cher - ECPv6.8.2.1//NONSGML v1.0//EN
CALSCALE:GREGORIAN
METHOD:PUBLISH
X-WR-CALNAME:Mairie de Montrichard Val de Cher
X-ORIGINAL-URL:https://www.montrichardvaldecher.com
X-WR-CALDESC:Évènements pour Mairie de Montrichard Val de Cher
REFRESH-INTERVAL;VALUE=DURATION:PT1H
X-Robots-Tag:noindex
X-PUBLISHED-TTL:PT1H
BEGIN:VTIMEZONE
TZID:Europe/Paris
BEGIN:DAYLIGHT
TZOFFSETFROM:+0100
TZOFFSETTO:+0200
TZNAME:CEST
DTSTART:20240331T010000
END:DAYLIGHT
BEGIN:STANDARD
TZOFFSETFROM:+0200
TZOFFSETTO:+0100
TZNAME:CET
DTSTART:20241027T010000
END:STANDARD
END:VTIMEZONE
BEGIN:VEVENT
DTSTART;TZID=Europe/Paris:20240614T210000
DTEND;TZID=Europe/Paris:20240614T230000
DTSTAMP:20260421T214000
CREATED:20240612T090733Z
LAST-MODIFIED:20240612T090803Z
UID:21190-1718398800-1718406000@www.montrichardvaldecher.com
SUMMARY:🎬🎷 FESTIVAL CINÉ 🎷🎬
DESCRIPTION:tous les vendredis soirs du mois de juin à partir du 7\n 21h\n cinéma Le Régent\n\n\n\n Le cinéma le Régent innove cette année en vous proposant la Musique sur Grand Ecran avec un film tous les vendredis soirs du mois de juin.\n\n\n\n L’ouverture du Festival se déroule le 07 juin à 20h15 avec un concert Jazz d’une heure (offert) avant la séance du film Blue Giant.\n\n\n\n Tarif unique de 5€\n\n\n\n Plus d’informations au 02 54 32 46 01
URL:https://www.montrichardvaldecher.com/event/%f0%9f%8e%ac%f0%9f%8e%b7-festival-cine-%f0%9f%8e%b7%f0%9f%8e%ac-2/
LOCATION:Cinéma Le Régent\, 3 Boulevard Philippe Auguste\, Montrichard Val De Cher\, 41400\, France
CATEGORIES:culturel
END:VEVENT
END:VCALENDAR