BEGIN:VCALENDAR
VERSION:2.0
PRODID:-//Mairie de Montrichard Val de Cher - ECPv6.8.2.1//NONSGML v1.0//EN
CALSCALE:GREGORIAN
METHOD:PUBLISH
X-ORIGINAL-URL:https://www.montrichardvaldecher.com
X-WR-CALDESC:Évènements pour Mairie de Montrichard Val de Cher
REFRESH-INTERVAL;VALUE=DURATION:PT1H
X-Robots-Tag:noindex
X-PUBLISHED-TTL:PT1H
BEGIN:VTIMEZONE
TZID:Europe/Paris
BEGIN:DAYLIGHT
TZOFFSETFROM:+0100
TZOFFSETTO:+0200
TZNAME:CEST
DTSTART:20240331T010000
END:DAYLIGHT
BEGIN:STANDARD
TZOFFSETFROM:+0200
TZOFFSETTO:+0100
TZNAME:CET
DTSTART:20241027T010000
END:STANDARD
END:VTIMEZONE
BEGIN:VEVENT
DTSTART;VALUE=DATE:20240606
DTEND;VALUE=DATE:20240610
DTSTAMP:20260421T214134
CREATED:20240527T125511Z
LAST-MODIFIED:20240527T125511Z
UID:20972-1717632000-1717977599@www.montrichardvaldecher.com
SUMMARY:🇫🇷🎥 CINÉMA LE RÉGENT : 80 ÈME ANNIVERSAIRE DU DÉBARQUEMENT 🎥🇫🇷
DESCRIPTION:À l’occasion de 80ème anniversaire du Débarquement\, le cinéma Le Régent diffuse à nouveau :\n\n\n\n « Il faut sauver le soldat Ryan »\n 6 juin à 17h\n séance unique à 5 euros\n\n\n\n « 39-45 Elles n’ont rien oublié »\n 8 juin à 18h\n 9 juin à 15h\n\n\n\n Plus d’informations au 02 54 32 46 01
URL:https://www.montrichardvaldecher.com/event/%f0%9f%87%ab%f0%9f%87%b7%f0%9f%8e%a5-cinema-le-regent-80-eme-anniversaire-du-debarquement-%f0%9f%8e%a5%f0%9f%87%ab%f0%9f%87%b7/
LOCATION:Cinéma Le Régent\, 3 Boulevard Philippe Auguste\, Montrichard Val De Cher\, 41400\, France
CATEGORIES:culturel
ATTACH;FMTTYPE=image/jpeg:https://www.montrichardvaldecher.com/wp-content/uploads/cinema.jpg
END:VEVENT
END:VCALENDAR