BEGIN:VCALENDAR
VERSION:2.0
PRODID:-//Mairie de Montrichard Val de Cher - ECPv6.8.2.1//NONSGML v1.0//EN
CALSCALE:GREGORIAN
METHOD:PUBLISH
X-WR-CALNAME:Mairie de Montrichard Val de Cher
X-ORIGINAL-URL:https://www.montrichardvaldecher.com
X-WR-CALDESC:Évènements pour Mairie de Montrichard Val de Cher
REFRESH-INTERVAL;VALUE=DURATION:PT1H
X-Robots-Tag:noindex
X-PUBLISHED-TTL:PT1H
BEGIN:VTIMEZONE
TZID:Europe/Paris
BEGIN:DAYLIGHT
TZOFFSETFROM:+0100
TZOFFSETTO:+0200
TZNAME:CEST
DTSTART:20240331T010000
END:DAYLIGHT
BEGIN:STANDARD
TZOFFSETFROM:+0200
TZOFFSETTO:+0100
TZNAME:CET
DTSTART:20241027T010000
END:STANDARD
END:VTIMEZONE
BEGIN:VEVENT
DTSTART;TZID=Europe/Paris:20240603T163000
DTEND;TZID=Europe/Paris:20240603T173000
DTSTAMP:20260421T214018
CREATED:20240530T121238Z
LAST-MODIFIED:20240530T121238Z
UID:21033-1717432200-1717435800@www.montrichardvaldecher.com
SUMMARY:🖼🙋 EXPOSITION : LES ENFANTS DU MONDE 🙋‍♀️🖼
DESCRIPTION:lundi 3 juin\n 16h45\n école maternelle « Le Chat Botté »\n\n\n\n L’école maternelle du Chat Botté vous présente ce lundi 3 juin une exposition sur le thème « Les enfants du monde ».\n\n\n\n Plus d’informations au 02 54 32 03 17
URL:https://www.montrichardvaldecher.com/event/%f0%9f%96%bc%f0%9f%99%8b-exposition-les-enfants-du-monde-%f0%9f%99%8b%e2%99%80%ef%b8%8f%f0%9f%96%bc/
LOCATION:École maternelle « Le Chat Botté »\, 6 Rue Guy Mercier\, Montrichard Val De Cher\, 41400\, France
CATEGORIES:culturel
END:VEVENT
END:VCALENDAR