BEGIN:VCALENDAR
VERSION:2.0
PRODID:-//Mairie de Montrichard Val de Cher - ECPv6.8.2.1//NONSGML v1.0//EN
CALSCALE:GREGORIAN
METHOD:PUBLISH
X-ORIGINAL-URL:https://www.montrichardvaldecher.com
X-WR-CALDESC:Évènements pour Mairie de Montrichard Val de Cher
REFRESH-INTERVAL;VALUE=DURATION:PT1H
X-Robots-Tag:noindex
X-PUBLISHED-TTL:PT1H
BEGIN:VTIMEZONE
TZID:Europe/Paris
BEGIN:DAYLIGHT
TZOFFSETFROM:+0100
TZOFFSETTO:+0200
TZNAME:CEST
DTSTART:20240331T010000
END:DAYLIGHT
BEGIN:STANDARD
TZOFFSETFROM:+0200
TZOFFSETTO:+0100
TZNAME:CET
DTSTART:20241027T010000
END:STANDARD
END:VTIMEZONE
BEGIN:VEVENT
DTSTART;VALUE=DATE:20240222
DTEND;VALUE=DATE:20240226
DTSTAMP:20260422T023606
CREATED:20240130T102857Z
LAST-MODIFIED:20240130T102904Z
UID:20249-1708560000-1708905599@www.montrichardvaldecher.com
SUMMARY:EXPOSITION : LES SEIGNEURS DE MONTRICHARD
DESCRIPTION:du 22 au 25 février\nde 10h à 12h et de 14h à 18h\nHôtel d’Effiat\n\n\n\nL’association des Amis du Vieux Montrichard présente une exposition sur les seigneurs de Montrichard et la société médiévale.\n\n\n\nEntrée libre\n\n\n\nPour plus d’informations : avm41@orange.fr
URL:https://www.montrichardvaldecher.com/event/exposition-les-seigneurs-de-montrichard/
LOCATION:Hotel d’effiat\, rue carnot\, montrichard\, 41400\, France
CATEGORIES:culturel
END:VEVENT
END:VCALENDAR