BEGIN:VCALENDAR
VERSION:2.0
PRODID:-//Mairie de Montrichard Val de Cher - ECPv6.8.2.1//NONSGML v1.0//EN
CALSCALE:GREGORIAN
METHOD:PUBLISH
X-WR-CALNAME:Mairie de Montrichard Val de Cher
X-ORIGINAL-URL:https://www.montrichardvaldecher.com
X-WR-CALDESC:Évènements pour Mairie de Montrichard Val de Cher
REFRESH-INTERVAL;VALUE=DURATION:PT1H
X-Robots-Tag:noindex
X-PUBLISHED-TTL:PT1H
BEGIN:VTIMEZONE
TZID:Europe/Paris
BEGIN:DAYLIGHT
TZOFFSETFROM:+0100
TZOFFSETTO:+0200
TZNAME:CEST
DTSTART:20240331T010000
END:DAYLIGHT
BEGIN:STANDARD
TZOFFSETFROM:+0200
TZOFFSETTO:+0100
TZNAME:CET
DTSTART:20241027T010000
END:STANDARD
END:VTIMEZONE
BEGIN:VEVENT
DTSTART;VALUE=DATE:20240203
DTEND;VALUE=DATE:20240205
DTSTAMP:20260422T024050
CREATED:20240116T152909Z
LAST-MODIFIED:20240116T152915Z
UID:20103-1706918400-1707091199@www.montrichardvaldecher.com
SUMMARY:SUPER LOTO
DESCRIPTION:samedi 3 février à 20h\ndimanche 4 février à 14h\nEspace Culturel et Sportif\n\n\n\nL’association du Modern’Dance organise son Super Loto\, de nombreux lots et bons d’achat sont à gagner.\n\n\n\nRéservation au 02 54 71 09 89
URL:https://www.montrichardvaldecher.com/event/super-loto/
LOCATION:ECS\, 6 rue des Religieuses\, MONTRICHARD\, 41400\, France
CATEGORIES:culturel
END:VEVENT
END:VCALENDAR