BEGIN:VCALENDAR
VERSION:2.0
PRODID:-//Mairie de Montrichard Val de Cher - ECPv6.8.2.1//NONSGML v1.0//EN
CALSCALE:GREGORIAN
METHOD:PUBLISH
X-ORIGINAL-URL:https://www.montrichardvaldecher.com
X-WR-CALDESC:Évènements pour Mairie de Montrichard Val de Cher
REFRESH-INTERVAL;VALUE=DURATION:PT1H
X-Robots-Tag:noindex
X-PUBLISHED-TTL:PT1H
BEGIN:VTIMEZONE
TZID:Europe/Paris
BEGIN:DAYLIGHT
TZOFFSETFROM:+0100
TZOFFSETTO:+0200
TZNAME:CEST
DTSTART:20240331T010000
END:DAYLIGHT
BEGIN:STANDARD
TZOFFSETFROM:+0200
TZOFFSETTO:+0100
TZNAME:CET
DTSTART:20241027T010000
END:STANDARD
END:VTIMEZONE
BEGIN:VEVENT
DTSTART;TZID=Europe/Paris:20241001T120000
DTEND;TZID=Europe/Paris:20241004T180000
DTSTAMP:20260421T143531
CREATED:20240911T134057Z
LAST-MODIFIED:20240913T085121Z
UID:21576-1727784000-1728064800@www.montrichardvaldecher.com
SUMMARY:La semaine bleue
DESCRIPTION:Dans le cadre de la Semaine Bleue\, qui se déroulera du 1er au 4 octobre\, la Municipalité se mobilise en faveur des personnes âgées\, mais aussi tout au long de l’année. Programme des activités offertes aux habitants de Montrichard et Bourré de plus de 70 ans :\n\n\n 1ER OCTOBRE : 12h – Déjeuner à l’école primaire – Maximum 20 personnes\n\n\n 2 OCTOBRE : 14h30 – Atelier Floral – Maximum 20 personnes – Hôtel d’Effiat\n\n\n 3 OCTOBRE : 15h – Séance de cinéma – « Un petit truc en plus » -Cinéma Le Régent\n\n\n 4 OCTOBRE : 15h – Croisière sur le Cher sur la Bélandre. Sur inscription à l’Espace France Services au 02 54 32 15 86 ou à franceservices@montrichardvaldecher.fr
URL:https://www.montrichardvaldecher.com/event/programme-la-semaine-bleue/
LOCATION:Montrichard Val de Cher\, 25\, Rue Nationale\, Montrichard Val de Cher\, 41400\, France
CATEGORIES:culturel
END:VEVENT
BEGIN:VEVENT
DTSTART;TZID=Europe/Paris:20241012T080000
DTEND;TZID=Europe/Paris:20241012T170000
DTSTAMP:20260421T143531
CREATED:20240912T113042Z
LAST-MODIFIED:20240913T085812Z
UID:21613-1728720000-1728752400@www.montrichardvaldecher.com
SUMMARY:Théâtre : la comtesse vient dîner ce soir
DESCRIPTION:12\, 13\, 18\, 19\, 20\, 26\, 27 octobre 2024. Les vendredis et samedis à 20h30. Les dimanches à 14h30. L’éveil de Nanteuil vous propose d’assister à la représentation de « La comtesse vient dîner ce soir » de Patricia Hubé. Réservations au 02 54 32 21 18 ou au 06 74 51 32 95
URL:https://www.montrichardvaldecher.com/event/theatre-la-comtesse-vient-diner-ce-soir-7/
LOCATION:Salle Camille Ferrand\, 16 quai du Cher\, MONTRICHARD\, 41400\, France
CATEGORIES:culturel
END:VEVENT
BEGIN:VEVENT
DTSTART;TZID=Europe/Paris:20241012T090000
DTEND;TZID=Europe/Paris:20241013T170000
DTSTAMP:20260421T143531
CREATED:20240911T080659Z
LAST-MODIFIED:20240913T085703Z
UID:21557-1728723600-1728838800@www.montrichardvaldecher.com
SUMMARY:Sixième salon des Arts de Montrichard
DESCRIPTION:Amateurs d’art ou simples curieux\, venez assister au 6ème salon des arts de Montrichard organsié par l’association Montrich’arts 12 & 13 octobre 2024 10h à 18h. Vous aurezla chance de pouvoir profiter des talents de nombreux artistes et en particulier des deux invités d’honneur : Jocelyne Favre\, Sculptrice et Christian Laspoujas\, Peintre. Plus d’infos : montrich.arts41400@gmail.com – 07 84 93 02 81
URL:https://www.montrichardvaldecher.com/event/sixieme-salon-des-arts-de-montrichard/
CATEGORIES:culturel
ORGANIZER;CN="Montrich'Arts":MAILTO:montrich.arts41400@gmail.com
END:VEVENT
BEGIN:VEVENT
DTSTART;TZID=Europe/Paris:20241012T203000
DTEND;TZID=Europe/Paris:20241012T203000
DTSTAMP:20260421T143531
CREATED:20240912T112347Z
LAST-MODIFIED:20240913T090023Z
UID:21600-1728765000-1728765000@www.montrichardvaldecher.com
SUMMARY:Théâtre : la Comtesse vient dîner ce soir
DESCRIPTION:12\, 13\, 18\, 19\, 20\, 26\, 27 octobre 2024. Les vendredis et samedis à 20h30. Les dimanches à 14h30. L’éveil de Nanteuil vous propose d’assister à la représentation de « La comtesse vient dîner ce soir » de Patricia Hubé. Réservations au 02 54 32 21 18 ou au 06 74 51 32 95.
URL:https://www.montrichardvaldecher.com/event/theatre-la-comtesse-vient-diner-ce-soir/
LOCATION:Salle Camille Ferrand\, 16 quai du Cher\, MONTRICHARD\, 41400\, France
CATEGORIES:culturel
END:VEVENT
BEGIN:VEVENT
DTSTART;TZID=Europe/Paris:20241013T143000
DTEND;TZID=Europe/Paris:20241013T170000
DTSTAMP:20260421T143531
CREATED:20240912T112508Z
LAST-MODIFIED:20240912T112508Z
UID:21603-1728829800-1728838800@www.montrichardvaldecher.com
SUMMARY:Théâtre : la comtesse vient dîner ce soir
DESCRIPTION:12\, 13\, 18\, 19\, 20\, 26\, 27 octobre 2024\n\n\nLes vendredis et samedis à 20h30\nLes dimanches à 14h30\n\n\n L’éveil de Nanteuil vous propose d’assister à la représentation de « La comtesse vient dîner ce soir » de Patricia Hubé.\n\n\n Réservations au 02 54 32 21 18 ou au 06 74 51 32 95
URL:https://www.montrichardvaldecher.com/event/theatre-la-comtesse-vient-diner-ce-soir-2/
LOCATION:Salle Camille Ferrand\, 16 quai du Cher\, MONTRICHARD\, 41400\, France
CATEGORIES:culturel
ATTACH;FMTTYPE=image/jpeg:https://www.montrichardvaldecher.com/wp-content/uploads/Affiche-theatre-octobre-2024.jpg
END:VEVENT
BEGIN:VEVENT
DTSTART;TZID=Europe/Paris:20241018T203000
DTEND;TZID=Europe/Paris:20241018T203000
DTSTAMP:20260421T143531
CREATED:20240912T112633Z
LAST-MODIFIED:20240913T090123Z
UID:21605-1729283400-1729283400@www.montrichardvaldecher.com
SUMMARY:Théâtre : la comtesse vient dîner ce soir
DESCRIPTION:12\, 13\, 18\, 19\, 20\, 26\, 27 octobre 2024. Les vendredis et samedis à 20h30. Les dimanches à 14h30. L’éveil de Nanteuil vous propose d’assister à la représentation de « La comtesse vient dîner ce soir » de Patricia Hubé. Réservations au 02 54 32 21 18 ou au 06 74 51 32 95.
URL:https://www.montrichardvaldecher.com/event/theatre-la-comtesse-vient-diner-ce-soir-3/
LOCATION:Salle Camille Ferrand\, 16 quai du Cher\, MONTRICHARD\, 41400\, France
CATEGORIES:culturel
END:VEVENT
BEGIN:VEVENT
DTSTART;TZID=Europe/Paris:20241019T100000
DTEND;TZID=Europe/Paris:20241019T180000
DTSTAMP:20260421T143531
CREATED:20241008T152217Z
LAST-MODIFIED:20241008T152257Z
UID:21862-1729332000-1729360800@www.montrichardvaldecher.com
SUMMARY:Journée Nationale de la réparation
DESCRIPTION:Dans le cadre des Journées Nationales de la réparation\, l’association Faire en Commun vous invite à venir réparer vos petits appareils portatifs. RDV le 19 octovre de 10h00 à 18h00 dans les locaux du FabLab
URL:https://www.montrichardvaldecher.com/event/journee-nationale-de-la-reparation/
LOCATION:Fablab\, 2 rue des écoles\, Montrichard Val De Cher\, 41400\, France
CATEGORIES:culturel
END:VEVENT
BEGIN:VEVENT
DTSTART;TZID=Europe/Paris:20241019T200000
DTEND;TZID=Europe/Paris:20241019T230000
DTSTAMP:20260421T143531
CREATED:20240911T140444Z
LAST-MODIFIED:20241011T141323Z
UID:21579-1729368000-1729378800@www.montrichardvaldecher.com
SUMMARY:Loto de Modern'Dance
DESCRIPTION:Devenus un rendez-vous incontournable de la rentrée\, ne manquez pas le super loto du 19 octobre organisés par l’association Modern’Dance. Rendez-vous à l’Espace Culturel et Sportif à 20h00 (ouverture des portes à 18h00). Toutes les infos pratiques au 07 87 91 94 28.
URL:https://www.montrichardvaldecher.com/event/lotos-de-moderndance/
LOCATION:ECS\, 6 rue des Religieuses\, MONTRICHARD\, 41400\, France
CATEGORIES:culturel
END:VEVENT
BEGIN:VEVENT
DTSTART;TZID=Europe/Paris:20241019T203000
DTEND;TZID=Europe/Paris:20241019T203000
DTSTAMP:20260421T143531
CREATED:20240912T112732Z
LAST-MODIFIED:20240913T090337Z
UID:21607-1729369800-1729369800@www.montrichardvaldecher.com
SUMMARY:Théâtre : la comtesse vient dîner ce soir
DESCRIPTION:12\, 13\, 18\, 19\, 20\, 26\, 27 octobre 2024. Les vendredis et samedis à 20h30. Les dimanches à 14h30. L’éveil de Nanteuil vous propose d’assister à la représentation de « La comtesse vient dîner ce soir » de Patricia Hubé. Réservations au 02 54 32 21 18 ou au 06 74 51 32 95.
URL:https://www.montrichardvaldecher.com/event/theatre-la-comtesse-vient-diner-ce-soir-4/
LOCATION:Salle Camille Ferrand\, 16 quai du Cher\, MONTRICHARD\, 41400\, France
CATEGORIES:culturel
END:VEVENT
BEGIN:VEVENT
DTSTART;TZID=Europe/Paris:20241020T140000
DTEND;TZID=Europe/Paris:20241020T170000
DTSTAMP:20260421T143531
CREATED:20241011T141132Z
LAST-MODIFIED:20241011T141132Z
UID:21956-1729432800-1729443600@www.montrichardvaldecher.com
SUMMARY:Loto de Modern'Dance
DESCRIPTION:Devenus un rendez-vous incontournable de la rentrée\, ne manquez pas le super loto du 20 octobre organisé par l’association Modern’Dance. Rendez-vous à l’Espace Culturel et Sportif à 14h00 (ouverture des portes à 18h00). Toutes les infos pratiques au 07 87 91 94 28.
URL:https://www.montrichardvaldecher.com/event/loto-de-moderndance/
LOCATION:ECS\, 6 rue des Religieuses\, MONTRICHARD\, 41400\, France
CATEGORIES:culturel
END:VEVENT
BEGIN:VEVENT
DTSTART;TZID=Europe/Paris:20241020T143000
DTEND;TZID=Europe/Paris:20241020T170000
DTSTAMP:20260421T143531
CREATED:20240912T112835Z
LAST-MODIFIED:20240913T090750Z
UID:21609-1729434600-1729443600@www.montrichardvaldecher.com
SUMMARY:Théâtre : la comtesse vient dîner ce soir
DESCRIPTION:12\, 13\, 18\, 19\, 20\, 26\, 27 octobre 2024. Les vendredis et samedis à 20h30. Les dimanches à 14h30. L’éveil de Nanteuil vous propose d’assister à la représentation de « La comtesse vient dîner ce soir » de Patricia Hubé. Réservations au 02 54 32 21 18 ou au 06 74 51 32 95.
URL:https://www.montrichardvaldecher.com/event/theatre-la-comtesse-vient-diner-ce-soir-5/
LOCATION:Salle Camille Ferrand\, 16 quai du Cher\, MONTRICHARD\, 41400\, France
CATEGORIES:culturel
END:VEVENT
BEGIN:VEVENT
DTSTART;TZID=Europe/Paris:20241026T203000
DTEND;TZID=Europe/Paris:20241026T203000
DTSTAMP:20260421T143531
CREATED:20240912T112947Z
LAST-MODIFIED:20240913T090843Z
UID:21611-1729974600-1729974600@www.montrichardvaldecher.com
SUMMARY:Théâtre : la comtesse vient dîner ce soir
DESCRIPTION:12\, 13\, 18\, 19\, 20\, 26\, 27 octobre 2024. Les vendredis et samedis à 20h30. Les dimanches à 14h30. L’éveil de Nanteuil vous propose d’assister à la représentation de « La comtesse vient dîner ce soir » de Patricia Hubé. Réservations au 02 54 32 21 18 ou au 06 74 51 32 95.
URL:https://www.montrichardvaldecher.com/event/theatre-la-comtesse-vient-diner-ce-soir-6/
LOCATION:Salle Camille Ferrand\, 16 quai du Cher\, MONTRICHARD\, 41400\, France
CATEGORIES:culturel
END:VEVENT
BEGIN:VEVENT
DTSTART;TZID=Europe/Paris:20241031T090000
DTEND;TZID=Europe/Paris:20241031T163000
DTSTAMP:20260421T143531
CREATED:20241002T140343Z
LAST-MODIFIED:20241128T152012Z
UID:21794-1730365200-1730392200@www.montrichardvaldecher.com
SUMMARY:Halloween à Mons'trichard
DESCRIPTION:Jeudi 31 Octobre.\n\n\n\n\n\n\n\n Au cœur de la ville.\n\n\n\n En partenariat avec Montrichard Val de Cher et Modern Dance\, l’UCIAM organise une journée terrifiante au cœur de la ville.\n\n\n\n Au programme :\n– Vitrines du centre ville décorées.\n– Dès 9h\, rue Carnot vous y trouverez des crêpes.\n– À 15h une chasse aux trésors sera organisée Rue Carnot. (1 récompense/participant.\n– Enfin\, à 16h il y aura un concours de déguisement au parvis de la mairie.\n\n\n\n Par conséquence\, la rue Carnot sera interdite à la circulation et aux stationnements le Jeudi 31 octobre de 8h à 19h.\n\n\n\n Informations à uciam41400@gmail.com.
URL:https://www.montrichardvaldecher.com/event/halloween-a-monstrichard/
LOCATION:Montrichard Val de Cher\, 25\, Rue Nationale\, Montrichard Val de Cher\, 41400\, France
CATEGORIES:culturel
ORGANIZER;CN="UCIAM":MAILTO:uciam41400@gmail.com
END:VEVENT
END:VCALENDAR