BEGIN:VCALENDAR
VERSION:2.0
PRODID:-//Mairie de Montrichard Val de Cher - ECPv6.8.2.1//NONSGML v1.0//EN
CALSCALE:GREGORIAN
METHOD:PUBLISH
X-WR-CALNAME:Mairie de Montrichard Val de Cher
X-ORIGINAL-URL:https://www.montrichardvaldecher.com
X-WR-CALDESC:Évènements pour Mairie de Montrichard Val de Cher
REFRESH-INTERVAL;VALUE=DURATION:PT1H
X-Robots-Tag:noindex
X-PUBLISHED-TTL:PT1H
BEGIN:VTIMEZONE
TZID:Europe/Paris
BEGIN:DAYLIGHT
TZOFFSETFROM:+0100
TZOFFSETTO:+0200
TZNAME:CEST
DTSTART:20240331T010000
END:DAYLIGHT
BEGIN:STANDARD
TZOFFSETFROM:+0200
TZOFFSETTO:+0100
TZNAME:CET
DTSTART:20241027T010000
END:STANDARD
END:VTIMEZONE
BEGIN:VEVENT
DTSTART;TZID=Europe/Paris:20240902T180000
DTEND;TZID=Europe/Paris:20240902T180000
DTSTAMP:20260421T160010
CREATED:20240115T133727Z
LAST-MODIFIED:20240827T095807Z
UID:20094-1725300000-1725300000@www.montrichardvaldecher.com
SUMMARY:Commémoration de la libération de Montrichard
DESCRIPTION:
URL:https://www.montrichardvaldecher.com/event/commemoration-liberation-de-montrichard/
LOCATION:Stèle Georges Frideloux
CATEGORIES:culturel
ATTACH;FMTTYPE=image/jpeg:https://www.montrichardvaldecher.com/wp-content/uploads/2-septembre-2024_page-0001.jpg
END:VEVENT
BEGIN:VEVENT
DTSTART;VALUE=DATE:20240907
DTEND;VALUE=DATE:20240908
DTSTAMP:20260421T160010
CREATED:20240729T135037Z
LAST-MODIFIED:20240827T085621Z
UID:21383-1725667200-1725753599@www.montrichardvaldecher.com
SUMMARY:Forum des Associations
DESCRIPTION:samedi 7 septembre\n\n\n de 10h à 18h\n Rue Carnot et Hôtel d’Effiat\n\n\n Vous cherchez une activité à pratiquer pour vous ou vos enfants ?\n\n\n Les associations vous accueillent à en coeur de ville : Associations sportives\, Culturelles\, de Loisirs ou de Solidarité : il y en a pour tout le monde !\n\n\n Démonstrations\, initiations\, inscriptions…\n\n\n Information à communication@montrichardvaldecher.fr\n\n\n Venez les rencontrer !
URL:https://www.montrichardvaldecher.com/event/%f0%9f%9a%b4%e2%99%80%ef%b8%8f%f0%9f%8e%b8-forum-des-associations-%f0%9f%8f%8a%e2%99%80%ef%b8%8f%f0%9f%a4%b8/
LOCATION:Coeur de ville
CATEGORIES:culturel
ATTACH;FMTTYPE=image/jpeg:https://www.montrichardvaldecher.com/wp-content/uploads/Forum-des-Associations-2024-scaled.jpg
END:VEVENT
BEGIN:VEVENT
DTSTART;TZID=Europe/Paris:20240907T140000
DTEND;TZID=Europe/Paris:20240910T180000
DTSTAMP:20260421T160010
CREATED:20240729T140334Z
LAST-MODIFIED:20240903T072606Z
UID:21392-1725717600-1725991200@www.montrichardvaldecher.com
SUMMARY:Exposition : le Cher\, une frontière intérieure
DESCRIPTION:du samedi 7 au mardi 10 septembre\n 14h-18h\n\n\n L’exposition « Le Cher\, une frontière intérieure » se déroulera du 7 au 10 septembre à la salle des fêtes de Bourré.\n\n\n Une conférence aura lieu le mardi 10 septembre à 16h30.\n\n\n Entrée gratuite
URL:https://www.montrichardvaldecher.com/event/%f0%9f%8f%9e%f0%9f%92%81-exposition-le-cher-une-frontiere-interieure-cest-demain-%f0%9f%92%81%f0%9f%8f%9e/
LOCATION:Centre Socio Culturel Bourré
CATEGORIES:culturel
ATTACH;FMTTYPE=image/jpeg:https://www.montrichardvaldecher.com/wp-content/uploads/451049839_1051013540367441_7381872379220631870_n.jpg
END:VEVENT
BEGIN:VEVENT
DTSTART;TZID=Europe/Paris:20240915T170000
DTEND;TZID=Europe/Paris:20240915T190000
DTSTAMP:20260421T160010
CREATED:20240612T081743Z
LAST-MODIFIED:20240913T083559Z
UID:21156-1726419600-1726426800@www.montrichardvaldecher.com
SUMMARY:Concert Gospel
DESCRIPTION:Le dimanche 15 septembre\, la chorale « La Cantilène » vous propose un concert gospel avec Joniece Jamison. Rendez-vous à l’Espace Socio-culturel à 17h00.\n\n\n\nTarifs : 23 euros en prévente et 25 euros sur place (1h avant les concerts) – Gratuit pour les moins de 12 ans. Point de vente : Maison de la Presse\, 62 rue Nationale – 02 54 32 01 84 ou directement auprès de Monsieur CARRE – 06 65 25 33 40 (place à 20 euros).
URL:https://www.montrichardvaldecher.com/event/%f0%9f%8e%a4%f0%9f%8e%bc-concert-gospel-%f0%9f%8e%bc%f0%9f%8e%a4/
LOCATION:ECS\, 6 rue des Religieuses\, MONTRICHARD\, 41400\, France
CATEGORIES:culturel
ORGANIZER;CN="La Cantil%C3%A8ne":MAILTO:lacantilene@laposte.net
END:VEVENT
BEGIN:VEVENT
DTSTART;TZID=Europe/Paris:20240921T090000
DTEND;TZID=Europe/Paris:20240922T180000
DTSTAMP:20260421T160010
CREATED:20240911T131707Z
LAST-MODIFIED:20240913T084135Z
UID:21574-1726909200-1727028000@www.montrichardvaldecher.com
SUMMARY:Journées Européennes du patrimoine
DESCRIPTION:La Mairie de Montrichard Val de Cher et les Amis du Vieux Montrichard vous donnent rendez-vous pour découvrir le patrimoine local. Venez visiter GRATUITEMENT la forteresse\, ses musées et surtout\, son Donjon. Pour l’occasion\, les Amis du Vieux Montrichard vous réservent des visites exceptionnelles des cachots de la forteresse de 9h30 à 12h00 et de 14h30 à 18h00. Renseignements au 02 54 71 66 34.
URL:https://www.montrichardvaldecher.com/event/journees-europeennes-du-patrimoine/
LOCATION:Donjon de Montrichard
CATEGORIES:culturel
END:VEVENT
BEGIN:VEVENT
DTSTART;TZID=Europe/Paris:20240921T200000
DTEND;TZID=Europe/Paris:20240921T200000
DTSTAMP:20260421T160010
CREATED:20240911T092354Z
LAST-MODIFIED:20240913T084726Z
UID:21564-1726948800-1726948800@www.montrichardvaldecher.com
SUMMARY:Supers lotos de la rentrée
DESCRIPTION:Devenus un rendez-vous incontournable de la rentrée\, ne manquez pas les supers lotos du 21 septembre organisés par l’association Modern’Dance. Rendez-vous à l’Espace Culturel et Sportif à 20h00 (ouverture des portes à 18h00). Toutes les infos pratiques au 07 87 91 94 28.
URL:https://www.montrichardvaldecher.com/event/supers-lotos-de-la-rentree/
LOCATION:ECS\, 6 rue des Religieuses\, MONTRICHARD\, 41400\, France
CATEGORIES:culturel
END:VEVENT
BEGIN:VEVENT
DTSTART;TZID=Europe/Paris:20240922T140000
DTEND;TZID=Europe/Paris:20240922T170000
DTSTAMP:20260421T160010
CREATED:20240911T092608Z
LAST-MODIFIED:20240913T084904Z
UID:21567-1727013600-1727024400@www.montrichardvaldecher.com
SUMMARY:Supers lotos de la rentrée
DESCRIPTION:Devenus un rendez-vous incontournable de la rentrée\, ne manquez pas les supers lotos du 22 septembre organisés par l’association Modern’Dance. Rendez-vous à l’Espace Culturel et Sportif à 14h00 (ouverture des portes à 12h00). Toutes les infos pratiques au 07 87 91 94 28.
URL:https://www.montrichardvaldecher.com/event/supers-lotos-de-la-rentree-2/
LOCATION:ECS\, 6 rue des Religieuses\, MONTRICHARD\, 41400\, France
CATEGORIES:culturel
ATTACH;FMTTYPE=image/jpeg:https://www.montrichardvaldecher.com/wp-content/uploads/458210099_528885366463893_4132176380523857303_n.jpg
END:VEVENT
BEGIN:VEVENT
DTSTART;TZID=Europe/Paris:20240929T103000
DTEND;TZID=Europe/Paris:20240929T180000
DTSTAMP:20260421T160010
CREATED:20240913T121802Z
LAST-MODIFIED:20240913T121802Z
UID:21649-1727605800-1727632800@www.montrichardvaldecher.com
SUMMARY:La disco soupe à Montrichard Val de Cher
DESCRIPTION:Ensemble nettoyons les berges du Cher ! \n Dimanche 29 Septembre 10h30 Parc plage La Municipalité\, en partenariat avec Biocoop\, le Restaurant de la Plage et le SMIEEOM\, vous convie à partager un moment en musique : La Disco Soupe ! La Disco Soupe ?C’est une session collective et ouverte\, de cuisine de fruits et légumes rebuts ou invendus\, dans une ambiance musicale et festive.Au programme : Nettoyage des berges du cher Exposition sur le tri sélectif Préparation de la soupe et salade de fruit Repas chaleureux offert Chaque participant devra ramener un contenant qui se ferme\, afin de ramener la succulente soupe préparée durant la manifestation.À partir de 6 ans – Gratuit ! \n 02 54 71 66 35\, venez nombreux !   
URL:https://www.montrichardvaldecher.com/event/la-disco-soupe-a-montrichard-val-de-cher/
LOCATION:Plage de Montrichard
CATEGORIES:culturel
ATTACH;FMTTYPE=image/jpeg:https://www.montrichardvaldecher.com/wp-content/uploads/affiche-disco-soupe-Copie-scaled.jpg
END:VEVENT
END:VCALENDAR