BEGIN:VCALENDAR
VERSION:2.0
PRODID:-//Mairie de Montrichard Val de Cher - ECPv6.8.2.1//NONSGML v1.0//EN
CALSCALE:GREGORIAN
METHOD:PUBLISH
X-ORIGINAL-URL:https://www.montrichardvaldecher.com
X-WR-CALDESC:Évènements pour Mairie de Montrichard Val de Cher
REFRESH-INTERVAL;VALUE=DURATION:PT1H
X-Robots-Tag:noindex
X-PUBLISHED-TTL:PT1H
BEGIN:VTIMEZONE
TZID:Europe/Paris
BEGIN:DAYLIGHT
TZOFFSETFROM:+0100
TZOFFSETTO:+0200
TZNAME:CEST
DTSTART:20240331T010000
END:DAYLIGHT
BEGIN:STANDARD
TZOFFSETFROM:+0200
TZOFFSETTO:+0100
TZNAME:CET
DTSTART:20241027T010000
END:STANDARD
END:VTIMEZONE
BEGIN:VEVENT
DTSTART;VALUE=DATE:20240706
DTEND;VALUE=DATE:20240707
DTSTAMP:20260421T190134
CREATED:20240612T082310Z
LAST-MODIFIED:20240705T070120Z
UID:21160-1720224000-1720310399@www.montrichardvaldecher.com
SUMMARY:🔥🏋️‍♀️ IL VA Y AVOIR DU SPORT 🔥🏋️‍♀️
DESCRIPTION:samedi 6 juillet\nMontrichard Val de Cher\n\n\n\nLa flamme olympique Paris 2024 passera par Thésée. A cette occasion et pour célébrer cet évènement exceptionnel\, une grande journée sportive sera organisée le 6 juillet à Montrichard Val de Cher.\n\n\n\nAu programme : cours et reconstitution historique en tenue grecque\, initiations et activités sportives et enfin ciné-spectacle « Il va y avoir du sport ! »\, une création Ciclic Centre Val de Loire et Equinoxe Scène Nationale de Châteauroux.
URL:https://www.montrichardvaldecher.com/event/%f0%9f%94%a5%f0%9f%8f%8b%ef%b8%8f%e2%99%80%ef%b8%8f-il-va-y-avoir-du-sport-%f0%9f%94%a5%f0%9f%8f%8b%ef%b8%8f%e2%99%80%ef%b8%8f/
LOCATION:Montrichard Val de Cher\, 25\, Rue Nationale\, Montrichard Val de Cher\, 41400\, France
CATEGORIES:culturel,Social,sport
END:VEVENT
BEGIN:VEVENT
DTSTART;VALUE=DATE:20240714
DTEND;VALUE=DATE:20240715
DTSTAMP:20260421T190134
CREATED:20240115T133445Z
LAST-MODIFIED:20240118T074920Z
UID:20090-1720915200-1721001599@www.montrichardvaldecher.com
SUMMARY:Fête Nationale
DESCRIPTION:
URL:https://www.montrichardvaldecher.com/event/fete-nationale/
CATEGORIES:culturel
ATTACH;FMTTYPE=image/jpeg:https://www.montrichardvaldecher.com/wp-content/uploads/maquette_1.jpg
END:VEVENT
BEGIN:VEVENT
DTSTART;TZID=Europe/Paris:20240714T110000
DTEND;TZID=Europe/Paris:20240714T233000
DTSTAMP:20260421T190134
CREATED:20240624T080348Z
LAST-MODIFIED:20240624T082742Z
UID:21282-1720954800-1720999800@www.montrichardvaldecher.com
SUMMARY:🇫🇷 FÊTE NATIONALE : DIMANCHE 14 JUILLET 🇫🇷
DESCRIPTION:dimanche 14 juillet\n à partir de 11h\n Quai de la République\n\n\n\n Les festivités du 14 juillet reviennent sur les quais de Montrichard Val de Cher.\n\n\n\n Au programme :\n11h : Défilé \n11h45 : Revue des Pompiers \n12h30 : Vin d’honneur\n14h00 : Animations autour des stands associatifs et déambulations des mascottes\n15h00 : Balades en voitures anciennes\n22h : Retraite aux Flambeaux (départ/arrivée : quai de la République)\n23h : Le Feu d’artifice sera tiré depuis les bords du Cher\, visible du pont et des quais \n23h30 : Bal du 14 Juillet \n\n\n\n Buvette\n Restauration\n Jeux\n\n\n\n Informations au 02 54 71 66 34\n\n\n\n Venez nombreux !
URL:https://www.montrichardvaldecher.com/event/%f0%9f%87%ab%f0%9f%87%b7-fete-nationale-dimanche-14-juillet-%f0%9f%87%ab%f0%9f%87%b7/
LOCATION:Montrichard Val de Cher\, 25\, Rue Nationale\, Montrichard Val de Cher\, 41400\, France
CATEGORIES:culturel
ATTACH;FMTTYPE=image/png:https://www.montrichardvaldecher.com/wp-content/uploads/Affiche-Sucette-14-juillet-2024.png
END:VEVENT
BEGIN:VEVENT
DTSTART;TZID=Europe/Paris:20240720T100000
DTEND;TZID=Europe/Paris:20240720T170000
DTSTAMP:20260421T190134
CREATED:20240711T071032Z
LAST-MODIFIED:20240711T071032Z
UID:21339-1721469600-1721494800@www.montrichardvaldecher.com
SUMMARY:🏰⛱  CONCOURS DE CHATEAUX DE SABLE 🏰⛱
DESCRIPTION:samedi 20 juillet\n de 10h à 12h ou de 14h30 à 17h\n Parc Plage\n\n\n\nLe Comité des Fêtes de Montrichard (CFM41) vous convie à son concours de châteaux de sable.\n\n\n\nConcours ouvert aux enfants à partir de 7 ans\nSession limitée à 15 enfants\n\n\n\n 3€ par enfant\n\n\n\n Vente de crêpes et de boissons\n\n\n\n Réservation obligatoire au 06 63 62 19 56 ou au bar du commerce\ncfmvdc41@gmail.com
URL:https://www.montrichardvaldecher.com/event/%f0%9f%8f%b0%e2%9b%b1-concours-de-chateaux-de-sable-%f0%9f%8f%b0%e2%9b%b1/
LOCATION:Plage de Montrichard
CATEGORIES:culturel
END:VEVENT
BEGIN:VEVENT
DTSTART;TZID=Europe/Paris:20240721T090000
DTEND;TZID=Europe/Paris:20240721T180000
DTSTAMP:20260421T190134
CREATED:20240711T071314Z
LAST-MODIFIED:20240711T071314Z
UID:21342-1721552400-1721584800@www.montrichardvaldecher.com
SUMMARY:📖 MARCHE AUX LIVRES : MON CHER BOUQUIN 📖
DESCRIPTION:dimanche 21 juillet 2024\n de 9h à 18h\n Parc Plage\n\n\n\n L’association TEAM vous donne rendez-vous avec des bouquinistes professionnels qui proposent un large choix de livres anciens et d’occasion : reliures anciennes\, régionalisme\, romans\, beaux arts\, bandes dessinées\, poches\, biographies mais aussi journaux\, revues\, vieux papiers\, cartes postales.\n\n\n\n Présence d’auteurs régionaux et dédicaces avec Martine Trouillet\, Alain Denis et Joëlle Soyer.\n\n\n\n Buvette et petite restauration.\n\n\n\n Informations : 06 11 08 57 21 – 06 48 57 94 86 – team.montrichard@yahoo.fr – acoucharriere@aol.com
URL:https://www.montrichardvaldecher.com/event/%f0%9f%93%96-marche-aux-livres-mon-cher-bouquin-%f0%9f%93%96/
LOCATION:Plage de Montrichard
CATEGORIES:culturel
ORGANIZER;CN="TEAM":MAILTO:team.montrichard@yahoo.fr
END:VEVENT
BEGIN:VEVENT
DTSTART;TZID=Europe/Paris:20240725T183000
DTEND;TZID=Europe/Paris:20240725T233000
DTSTAMP:20260421T190134
CREATED:20240621T130840Z
LAST-MODIFIED:20240621T134734Z
UID:21272-1721932200-1721950200@www.montrichardvaldecher.com
SUMMARY:🎉🏰 INAUGURATION DE LA TOUR CARRÉE 🏰🎉
DESCRIPTION:jeudi 25 juillet\nà partir de 18h30\nMonté Grand Degrés Eglise Sainte-Croix\n\n\n\nVenez célébrer le Donjon lors de sa soirée d’inauguration qui se déroulera le 25 juillet.\n\n\n\nAu programme :\n19h : Discours des officiels\n20h30 : Cocktail\, activités d’ambiance médiévale\, visite libre de la tour\n22h30 : Spectacle entre son et lumière\n\n\n\nRenseignements au 02 54 71 66 35 ou à communication@montrichardvaldecher.fr\n\n\n\nVenez nombreux !
URL:https://www.montrichardvaldecher.com/event/%f0%9f%8e%89%f0%9f%8f%b0-inauguration-de-la-tour-carre-%f0%9f%8f%b0%f0%9f%8e%89/
LOCATION:Donjon\, 5 Mnt Grand Degrés Sainte-Croix\, Montrichard Val De Cher\, 41400\, France
CATEGORIES:culturel
END:VEVENT
BEGIN:VEVENT
DTSTART;TZID=Europe/Paris:20240725T190000
DTEND;TZID=Europe/Paris:20240811T233000
DTSTAMP:20260421T190134
CREATED:20240729T135837Z
LAST-MODIFIED:20240729T135837Z
UID:21387-1721934000-1723419000@www.montrichardvaldecher.com
SUMMARY:💃🍷 GUINGUETTE DE LA FORTERESSE 💃🍷
DESCRIPTION:Du 25 juillet au 11 août\, les jeudi\, vendredi\, samedi et dimanche soirs de 19h00 à 23h30. \nTaverne médiévale\, boisson d’époque\, produits du terroir\, démonstrations\, spectacles\, combats en armure
URL:https://www.montrichardvaldecher.com/event/%f0%9f%92%83%f0%9f%8d%b7-guinguette-de-la-forteresse-%f0%9f%92%83%f0%9f%8d%b7/
LOCATION:Donjon de Montrichard
CATEGORIES:culturel
ATTACH;FMTTYPE=image/jpeg:https://www.montrichardvaldecher.com/wp-content/uploads/453166843_811386994309576_7842363140525233692_n.jpg
END:VEVENT
BEGIN:VEVENT
DTSTART;TZID=Europe/Paris:20240727T080000
DTEND;TZID=Europe/Paris:20240728T170000
DTSTAMP:20260421T190134
CREATED:20240724T070312Z
LAST-MODIFIED:20240724T075215Z
UID:21364-1722067200-1722186000@www.montrichardvaldecher.com
SUMMARY:🚘☀️ EXPOSITION ET BOURSE D'ÉCHANGE : VÉHICULES ANCIENS ☀️🚘
DESCRIPTION:📆 27 et 28 juillet\n\n\n⏰ de 9h à 19h\n\n\n📍 Parc Plage\n\n\n \n\n\n🔸 Rendez-vous le week-end du 27 et 28 juillet pour une exposition et bourse d’échange de véhicules anciens.\n\n\n \n\n\n🍟Restauration sur place\n\n\n \n\n\n💸 Entrée gratuite\n\n\n \n\n\n☎ Renseignements et inscriptions au 06 73 47 42 18
URL:https://www.montrichardvaldecher.com/event/%f0%9f%9a%98%e2%98%80%ef%b8%8f-exposition-et-bourse-dechange-vehicules-anciens-%e2%98%80%ef%b8%8f%f0%9f%9a%98/
LOCATION:Plage de Montrichard
CATEGORIES:culturel
ATTACH;FMTTYPE=image/png:https://www.montrichardvaldecher.com/wp-content/uploads/Affiche-Expo-Bourse-Vehicules-Anciens-du-27-et-28-juillet-2024-V.2.png
END:VEVENT
END:VCALENDAR