BEGIN:VCALENDAR
VERSION:2.0
PRODID:-//Mairie de Montrichard Val de Cher - ECPv6.8.2.1//NONSGML v1.0//EN
CALSCALE:GREGORIAN
METHOD:PUBLISH
X-WR-CALNAME:Mairie de Montrichard Val de Cher
X-ORIGINAL-URL:https://www.montrichardvaldecher.com
X-WR-CALDESC:Évènements pour Mairie de Montrichard Val de Cher
REFRESH-INTERVAL;VALUE=DURATION:PT1H
X-Robots-Tag:noindex
X-PUBLISHED-TTL:PT1H
BEGIN:VTIMEZONE
TZID:Europe/Paris
BEGIN:DAYLIGHT
TZOFFSETFROM:+0100
TZOFFSETTO:+0200
TZNAME:CEST
DTSTART:20240331T010000
END:DAYLIGHT
BEGIN:STANDARD
TZOFFSETFROM:+0200
TZOFFSETTO:+0100
TZNAME:CET
DTSTART:20241027T010000
END:STANDARD
END:VTIMEZONE
BEGIN:VEVENT
DTSTART;TZID=Europe/Paris:20240407T163000
DTEND;TZID=Europe/Paris:20240407T183000
DTSTAMP:20260421T224720
CREATED:20240315T161808Z
LAST-MODIFIED:20240316T155645Z
UID:20585-1712507400-1712514600@www.montrichardvaldecher.com
SUMMARY:🗣🎫 PIÈCE DE THÉÂTRE : LE PRÉNOM 🎫🗣
DESCRIPTION:dimanche 7 avril\n 16h30\n Espace Culturel et Sportif\n\n\n\n La Municipalité vous propose de venir assister à la pièce de théâtre « Le Prénom » mise en scène par Romain Favier et représentée par la Troupe « Lueur de Scène ».\nCette Troupe de Théâtre est composée de jeunes gens de 16 à 25 ans. Leur passion pour le théâtre est remarquable. Ils ont monté une association pour se produire de villes en villages et partager cette passion avec le plus grand nombre.\n« Le Prénom » est une pièce de Théâtre français écrite par les auteurs Matthieu Delaporte et Alexandre de la Patellière. Elle a été représentée pour la première fois en 2010 au Théâtre Edouard VII où elle a été jouée plus de 243 fois.\n\n\n\n Tous les bénéfices générés à l’occasion de cette représentation seront intégralement reversés à l’Association ADEL. Venez donc passer un moment merveilleux tout en faisant une belle action.\n\n\n\n Entrée : 10 euros (gratuit pour les moins de 10 ans)\n\n\n Pour en connaître davantage sur l’association ADEL rendez-vous sur : https://www.adelcentre.com/
URL:https://www.montrichardvaldecher.com/event/%f0%9f%97%a3%f0%9f%8e%ab-piece-de-theatre-le-prenom-%f0%9f%8e%ab%f0%9f%97%a3/
LOCATION:ECS\, 6 rue des Religieuses\, MONTRICHARD\, 41400\, France
CATEGORIES:culturel
END:VEVENT
BEGIN:VEVENT
DTSTART;TZID=Europe/Paris:20240427T180000
DTEND;TZID=Europe/Paris:20240427T193000
DTSTAMP:20260421T224720
CREATED:20240427T073111Z
LAST-MODIFIED:20240427T073119Z
UID:20852-1714240800-1714246200@www.montrichardvaldecher.com
SUMMARY:🎒🎤 CONFERENCE FILM : VIA LIEGRIA 🎤🎒
DESCRIPTION:27 avril 2024\n18h\nCinéma Le Régent\n\n\n\nLe cinéma Le Régent vous propose un film conférence « Via Ligeria\, De Saint Pierre de Nantes à Saint Pierre de Rome ».\n\n\n\nEn présence de Anne-Laure Timmel et Anthony Grouard qui se sont lancés dans la construction de ce nouveau chemin\, la Via Ligeria\, permettant de relier Saint Pierre de Nantes à Saint Pierre de Rome. La Via Ligeria est une voie de jonction\, entre Nantes et la Via Francigena (qui relie Canterburry à Rome). Longue de quelques 800km\, elle longe la Loire et passe par deux hauts lieux de pélerinage que sont Tours et Vezelay.
URL:https://www.montrichardvaldecher.com/event/%f0%9f%8e%92%f0%9f%8e%a4-conference-film-via-liegria-%f0%9f%8e%a4%f0%9f%8e%92/
LOCATION:Cinéma Le Régent\, 3 Boulevard Philippe Auguste\, Montrichard Val De Cher\, 41400\, France
CATEGORIES:culturel
ATTACH;FMTTYPE=image/jpeg:https://www.montrichardvaldecher.com/wp-content/uploads/via-ligeria.jpg
END:VEVENT
END:VCALENDAR