BEGIN:VCALENDAR
VERSION:2.0
PRODID:-//Mairie de Montrichard Val de Cher - ECPv6.8.2.1//NONSGML v1.0//EN
CALSCALE:GREGORIAN
METHOD:PUBLISH
X-ORIGINAL-URL:https://www.montrichardvaldecher.com
X-WR-CALDESC:Évènements pour Mairie de Montrichard Val de Cher
REFRESH-INTERVAL;VALUE=DURATION:PT1H
X-Robots-Tag:noindex
X-PUBLISHED-TTL:PT1H
BEGIN:VTIMEZONE
TZID:Europe/Paris
BEGIN:DAYLIGHT
TZOFFSETFROM:+0100
TZOFFSETTO:+0200
TZNAME:CEST
DTSTART:20240331T010000
END:DAYLIGHT
BEGIN:STANDARD
TZOFFSETFROM:+0200
TZOFFSETTO:+0100
TZNAME:CET
DTSTART:20241027T010000
END:STANDARD
END:VTIMEZONE
BEGIN:VEVENT
DTSTART;VALUE=DATE:20240308
DTEND;VALUE=DATE:20240311
DTSTAMP:20260422T000604
CREATED:20240129T090658Z
LAST-MODIFIED:20240202T152724Z
UID:20212-1709856000-1710115199@www.montrichardvaldecher.com
SUMMARY:"PAUSE CADDIE": EVEIL DE NANTEUIL
DESCRIPTION:les 8\, 9\, 10\, 16\, 17\, 23 et 24 mars\n les vendredis et samedis à 20h30 et dimanches à 14h30\n salle Camille Ferrand\, 16 quai du Cher\n\n\n\n La troupe de l’Eveil de Nanteuil vous donne rendez-vous pour sa nouvelle pièce de théâtre « Pause caddie » de Jean-Charles GAILLARD.\n\n\n\n Tarifs :\nadultes : 8€\nscolaires et étudiants : 4€\n\n\n Informations et réservations :\n02 54 32 21 18 ou 06 74 51 32 95
URL:https://www.montrichardvaldecher.com/event/pause-caddie-eveil-de-nanteuil/
LOCATION:Salle Camille Ferrand\, 16 quai du Cher\, MONTRICHARD\, 41400\, France
CATEGORIES:culturel
END:VEVENT
BEGIN:VEVENT
DTSTART;VALUE=DATE:20240316
DTEND;VALUE=DATE:20240318
DTSTAMP:20260422T000604
CREATED:20240202T152520Z
LAST-MODIFIED:20240202T153140Z
UID:20375-1710547200-1710719999@www.montrichardvaldecher.com
SUMMARY:"PAUSE CADDIE": EVEIL DE NANTEUIL
DESCRIPTION:les 16\, 17\, 23 et 24 mars\n les vendredis et samedis à 20h30 et dimanches à 14h30\n salle Camille Ferrand\, 16 quai du Cher\n\n\n\n La troupe de l’Eveil de Nanteuil vous donne rendez-vous pour sa nouvelle pièce de théâtre « Pause caddie » de Jean-Charles GAILLARD.\n\n\n\n Tarifs :\nadultes : 8€\nscolaires et étudiants : 4€\n\n\n Informations et réservations :\n02 54 32 21 18 ou 06 74 51 32 95
URL:https://www.montrichardvaldecher.com/event/pause-caddie-eveil-de-nanteuil-2/
LOCATION:Salle Camille Ferrand\, 16 quai du Cher\, MONTRICHARD\, 41400\, France
CATEGORIES:culturel
END:VEVENT
BEGIN:VEVENT
DTSTART;TZID=Europe/Paris:20240316T093000
DTEND;TZID=Europe/Paris:20240316T130000
DTSTAMP:20260422T000604
CREATED:20240229T150240Z
LAST-MODIFIED:20240229T150252Z
UID:20505-1710581400-1710594000@www.montrichardvaldecher.com
SUMMARY:🧏‍♀️💼 FORUM : JOBS D'ÉTÉ 💼🧏‍♀️
DESCRIPTION:samedi 16 mars\nde 9h30 à 13h\nEspace Jeunes\, 8 rue de la Gare\, Le Controis en Sologne\n\n\n\nLe forum Jobs d’été est de retour pour une 13e édition ! Tu as entre 17 à 25 ans\, tu es à la recherche d’un emploi saisonnier pour cet été\, nous t’invitons à venir échanger avec des recruteurs à l’Espace Jeunes polyvalents de Contres.\n\n\n\nDe nombreux secteurs seront représentés comme la grande distribution\, l’hôtellerie/restauration ou encore l’industrie.\n\n\n\nDe plus\, si tu ne sais pas valoriser ton expérience sur un CV et décrire tes motivations\, différentes séances d’ateliers de préparation sont organisées dans le Val de Cher Controis :\n– Lundi 11 mars à 14h à l’Espace France Services de Saint-Aignan\n– Mercredi 12 mars à 14h à l’Espace France Services de Selles-sur-Cher\n– Mercredi 13 mars à 14h à l’Espace France Services de Montrichard Val de Cher\n\n\n\nSi tu souhaites participer\, mais que tu n’as pas de moyen de locomotion pour te rendre à Contres le service enfance jeunesse propose des navettes sur réservation. Selon vos besoins\, un mini-bus peut partir de Selles-sur-Cher\, Saint-Aignan\, Noyers-sur-Cher et Montrichard Val de Cher.\n\n\n\nContact et réservation :\n02 54 75 42 63 ou 02 54 96 33 23\n\n\n\nPour en savoir plus : www.val2c.fr/au-quotidien/france-services/jobs-ete-2024/
URL:https://www.montrichardvaldecher.com/event/%f0%9f%a7%8f%e2%99%80%ef%b8%8f%f0%9f%92%bc-forum-jobs-dete-%f0%9f%92%bc%f0%9f%a7%8f%e2%99%80%ef%b8%8f/
LOCATION:Contres
CATEGORIES:culturel
END:VEVENT
BEGIN:VEVENT
DTSTART;VALUE=DATE:20240321
DTEND;VALUE=DATE:20240322
DTSTAMP:20260422T000604
CREATED:20240229T150407Z
LAST-MODIFIED:20240229T150413Z
UID:20511-1710979200-1711065599@www.montrichardvaldecher.com
SUMMARY:🎨🫧 EXPOSITION : LA GRANDE LESSIVE 🫧🎨
DESCRIPTION:21 mars 2024\nHôtel d’Effiat\, Montrichard\n\n\n\nLe GEM Amila de Montrichard et la Municipalité\, organisent une exposition artistique éphémère LA GRANDE LESSIVE : « Faire des bulles ».\n\n\n\nInformations et renseignements au 06 13 32 31 52 ou à gemamilasud@yahoo.com
URL:https://www.montrichardvaldecher.com/event/%f0%9f%8e%a8%f0%9f%ab%a7-exposition-la-grande-lessive-%f0%9f%ab%a7%f0%9f%8e%a8/
LOCATION:Hotel d’effiat\, rue carnot\, montrichard\, 41400\, France
CATEGORIES:culturel
ORGANIZER;CN="GEM Amila":MAILTO:gemamilasud@yahoo.com
END:VEVENT
BEGIN:VEVENT
DTSTART;VALUE=DATE:20240323
DTEND;VALUE=DATE:20240325
DTSTAMP:20260422T000604
CREATED:20240202T152628Z
LAST-MODIFIED:20240202T153512Z
UID:20378-1711152000-1711324799@www.montrichardvaldecher.com
SUMMARY:"PAUSE CADDIE": EVEIL DE NANTEUIL
DESCRIPTION:les 23 et 24 mars\n les vendredis et samedis à 20h30 et dimanches à 14h30\n salle Camille Ferrand\, 16 quai du Cher\n\n\n\n La troupe de l’Eveil de Nanteuil vous donne rendez-vous pour sa nouvelle pièce de théâtre « Pause caddie » de Jean-Charles GAILLARD.\n\n\n\n Tarifs :\nadultes : 8€\nscolaires et étudiants : 4€\n\n\n Informations et réservations :\n02 54 32 21 18 ou 06 74 51 32 95
URL:https://www.montrichardvaldecher.com/event/pause-caddie-eveil-de-nanteuil-3/
LOCATION:Salle Camille Ferrand\, 16 quai du Cher\, MONTRICHARD\, 41400\, France
CATEGORIES:culturel
END:VEVENT
END:VCALENDAR