BEGIN:VCALENDAR
VERSION:2.0
PRODID:-//Mairie de Montrichard Val de Cher - ECPv6.8.2.1//NONSGML v1.0//EN
CALSCALE:GREGORIAN
METHOD:PUBLISH
X-WR-CALNAME:Mairie de Montrichard Val de Cher
X-ORIGINAL-URL:https://www.montrichardvaldecher.com
X-WR-CALDESC:Évènements pour Mairie de Montrichard Val de Cher
REFRESH-INTERVAL;VALUE=DURATION:PT1H
X-Robots-Tag:noindex
X-PUBLISHED-TTL:PT1H
BEGIN:VTIMEZONE
TZID:Europe/Paris
BEGIN:DAYLIGHT
TZOFFSETFROM:+0100
TZOFFSETTO:+0200
TZNAME:CEST
DTSTART:20240331T010000
END:DAYLIGHT
BEGIN:STANDARD
TZOFFSETFROM:+0200
TZOFFSETTO:+0100
TZNAME:CET
DTSTART:20241027T010000
END:STANDARD
END:VTIMEZONE
BEGIN:VEVENT
DTSTART;TZID=Europe/Paris:20240108T080000
DTEND;TZID=Europe/Paris:20240108T200000
DTSTAMP:20260422T022255
CREATED:20231215T145233Z
LAST-MODIFIED:20231215T145233Z
UID:19981-1704700800-1704744000@www.montrichardvaldecher.com
SUMMARY:ATELIERS DE PRISE EN CHARGE SUR L'INSOMNIE
DESCRIPTION:du lundi 8 janvier au lundi 19 février\n de 18h à 20h\n Montrichard\n\n\n\n Pour vous inscrire\, adressez vous à liaison.mg.psy@chu-tours.mssante.fr\n\n\n\n Il vous faut envoyer :\n– Nom et prénom\n– N° de sécurité sociale\n– N° de téléphone\n\n\n\n Informations sur medecinegeneralepsychiatrie37.fr
URL:https://www.montrichardvaldecher.com/event/ateliers-de-prise-en-charge-sur-linsomnie/
CATEGORIES:culturel
END:VEVENT
BEGIN:VEVENT
DTSTART;TZID=Europe/Paris:20240114T160000
DTEND;TZID=Europe/Paris:20240114T183000
DTSTAMP:20260422T022255
CREATED:20240104T160318Z
LAST-MODIFIED:20240105T073855Z
UID:20053-1705248000-1705257000@www.montrichardvaldecher.com
SUMMARY:🎼⭐️ CONCERT DE NOUVEL AN 🎼⭐️
DESCRIPTION:📅 Dimanche 14 janvier\n\n\n⏰ 16h\n\n\n📍 ECS\n\n\n \n\n\n🔹 L’AICEM vous convie à son concert de Nouvel An par l’Harmonie de l’école de musique de Montrichard. \n\n\n \n\n\n🚪 Entrée gratuite
URL:https://www.montrichardvaldecher.com/event/%f0%9f%8e%bc%e2%ad%90%ef%b8%8f-concert-de-nouvel-an-%f0%9f%8e%bc%e2%ad%90%ef%b8%8f/
LOCATION:ECS\, 6 rue des Religieuses\, MONTRICHARD\, 41400\, France
CATEGORIES:culturel
END:VEVENT
END:VCALENDAR